BEGIN:VCALENDAR
VERSION:2.0
PRODID:-//IPAT Asia Chapter - ECPv5.16.4//NONSGML v1.0//EN
CALSCALE:GREGORIAN
METHOD:PUBLISH
X-ORIGINAL-URL:https://asporcelainpainting.com
X-WR-CALDESC:Events for IPAT Asia Chapter
REFRESH-INTERVAL;VALUE=DURATION:PT1H
X-Robots-Tag:noindex
X-PUBLISHED-TTL:PT1H
BEGIN:VTIMEZONE
TZID:Asia/Hong_Kong
BEGIN:STANDARD
TZOFFSETFROM:+0800
TZOFFSETTO:+0800
TZNAME:HKT
DTSTART:20250101T000000
END:STANDARD
END:VTIMEZONE
BEGIN:VEVENT
DTSTART;VALUE=DATE:20250222
DTEND;VALUE=DATE:20250422
DTSTAMP:20260426T042424
CREATED:20260316T153346Z
LAST-MODIFIED:20260317T223249Z
UID:9481-1740182400-1745279999@asporcelainpainting.com
SUMMARY:Feature Wall Display PapaHome
DESCRIPTION:
URL:https://asporcelainpainting.com/event/feature-wall-display-papahome/
LOCATION:PapaHome\, China Hong City\, Tsim Sha Tsui\, Hong Kong
CATEGORIES:Exhibitions
ATTACH;FMTTYPE=image/jpeg:https://asporcelainpainting.com/wp-content/uploads/2026/03/20250222-0421_PapaHome-00-scaled.jpg
END:VEVENT
END:VCALENDAR